BEGIN:VCALENDAR
VERSION:2.0
PRODID:-//Hort der Erich Kästner-Schule - ECPv6.15.12.2//NONSGML v1.0//EN
CALSCALE:GREGORIAN
METHOD:PUBLISH
X-WR-CALNAME:Hort der Erich Kästner-Schule
X-ORIGINAL-URL:https://www.hort-eks.de
X-WR-CALDESC:Veranstaltungen für Hort der Erich Kästner-Schule
REFRESH-INTERVAL;VALUE=DURATION:PT1H
X-Robots-Tag:noindex
X-PUBLISHED-TTL:PT1H
BEGIN:VTIMEZONE
TZID:Europe/Berlin
BEGIN:DAYLIGHT
TZOFFSETFROM:+0100
TZOFFSETTO:+0200
TZNAME:CEST
DTSTART:20250330T010000
END:DAYLIGHT
BEGIN:STANDARD
TZOFFSETFROM:+0200
TZOFFSETTO:+0100
TZNAME:CET
DTSTART:20251026T010000
END:STANDARD
BEGIN:DAYLIGHT
TZOFFSETFROM:+0100
TZOFFSETTO:+0200
TZNAME:CEST
DTSTART:20260329T010000
END:DAYLIGHT
BEGIN:STANDARD
TZOFFSETFROM:+0200
TZOFFSETTO:+0100
TZNAME:CET
DTSTART:20261025T010000
END:STANDARD
BEGIN:DAYLIGHT
TZOFFSETFROM:+0100
TZOFFSETTO:+0200
TZNAME:CEST
DTSTART:20270328T010000
END:DAYLIGHT
BEGIN:STANDARD
TZOFFSETFROM:+0200
TZOFFSETTO:+0100
TZNAME:CET
DTSTART:20271031T010000
END:STANDARD
END:VTIMEZONE
BEGIN:VEVENT
DTSTART;TZID=Europe/Berlin:20260417T133000
DTEND;TZID=Europe/Berlin:20260417T170000
DTSTAMP:20260420T200924
CREATED:20260409T085010Z
LAST-MODIFIED:20260409T085010Z
UID:2453-1776432600-1776445200@www.hort-eks.de
SUMMARY:Ausflugstag: Kino Cineplex
DESCRIPTION:
URL:https://www.hort-eks.de/termine/ausflugstag-kino-cineplex/
END:VEVENT
BEGIN:VEVENT
DTSTART;TZID=Europe/Berlin:20260407T020000
DTEND;TZID=Europe/Berlin:20260411T015959
DTSTAMP:20260420T200924
CREATED:20250813T173620Z
LAST-MODIFIED:20250813T173620Z
UID:1167-1775527200-1775872799@www.hort-eks.de
SUMMARY:Osterferien
DESCRIPTION:
URL:https://www.hort-eks.de/termine/osterferien/
END:VEVENT
BEGIN:VEVENT
DTSTART;TZID=Europe/Berlin:20260406T020000
DTEND;TZID=Europe/Berlin:20260407T015959
DTSTAMP:20260420T200924
CREATED:20250904T091038Z
LAST-MODIFIED:20250904T091038Z
UID:1268-1775440800-1775527199@www.hort-eks.de
SUMMARY:Feiertag
DESCRIPTION:
URL:https://www.hort-eks.de/termine/feiertag/
END:VEVENT
BEGIN:VEVENT
DTSTART;TZID=Europe/Berlin:20260330T133000
DTEND;TZID=Europe/Berlin:20260330T163000
DTSTAMP:20260420T200924
CREATED:20260324T122057Z
LAST-MODIFIED:20260324T122057Z
UID:2413-1774877400-1774888200@www.hort-eks.de
SUMMARY:Osterbasteln
DESCRIPTION:…in der TARGO-Bank. Nur für angemeldete Kinder.
URL:https://www.hort-eks.de/termine/osterbasteln/
END:VEVENT
BEGIN:VEVENT
DTSTART;TZID=Europe/Berlin:20260326T133000
DTEND;TZID=Europe/Berlin:20260326T170000
DTSTAMP:20260420T200924
CREATED:20260227T100739Z
LAST-MODIFIED:20260227T100739Z
UID:2211-1774531800-1774544400@www.hort-eks.de
SUMMARY:Ausflugstag: Workshop + Theaterführung im Theatrium
DESCRIPTION:
URL:https://www.hort-eks.de/termine/ausflugstag-workshop-theaterfuehrung-im-theatrium/
END:VEVENT
BEGIN:VEVENT
DTSTART;TZID=Europe/Berlin:20260320T133000
DTEND;TZID=Europe/Berlin:20260320T163000
DTSTAMP:20260420T200924
CREATED:20260216T113703Z
LAST-MODIFIED:20260216T113703Z
UID:2188-1774013400-1774024200@www.hort-eks.de
SUMMARY:Ausflugstag: Naturkundemuseum
DESCRIPTION:
URL:https://www.hort-eks.de/termine/ausflugstag-naturkundemuseum/
END:VEVENT
BEGIN:VEVENT
DTSTART;TZID=Europe/Berlin:20260313T133000
DTEND;TZID=Europe/Berlin:20260313T163000
DTSTAMP:20260420T200924
CREATED:20251216T145616Z
LAST-MODIFIED:20260311T113315Z
UID:2091-1773408600-1773419400@www.hort-eks.de
SUMMARY:Fällt aus! Ausflugstag: Führung durch das Bundesverwaltungsgericht
DESCRIPTION:
URL:https://www.hort-eks.de/termine/ausflugstag-fuehrung-durch-das-bundesverwaltungsgericht/
END:VEVENT
BEGIN:VEVENT
DTSTART;TZID=Europe/Berlin:20260306T133000
DTEND;TZID=Europe/Berlin:20260306T163000
DTSTAMP:20260420T200924
CREATED:20260203T101225Z
LAST-MODIFIED:20260203T101225Z
UID:2161-1772803800-1772814600@www.hort-eks.de
SUMMARY:Ausflugstag: Waldtag (nur Klasse 2)
DESCRIPTION:
URL:https://www.hort-eks.de/termine/ausflugstag-waldtag-nur-klasse-2/
END:VEVENT
BEGIN:VEVENT
DTSTART;TZID=Europe/Berlin:20260210T100000
DTEND;TZID=Europe/Berlin:20260210T120000
DTSTAMP:20260420T200924
CREATED:20260119T082949Z
LAST-MODIFIED:20260119T082949Z
UID:2138-1770717600-1770724800@www.hort-eks.de
SUMMARY:FiSch-Familienstammtisch
DESCRIPTION:Mehr Infos hier.
URL:https://www.hort-eks.de/termine/fisch-familienstammtisch/
END:VEVENT
BEGIN:VEVENT
DTSTART;TZID=Europe/Berlin:20260209T010000
DTEND;TZID=Europe/Berlin:20260221T005959
DTSTAMP:20260420T200924
CREATED:20250813T173553Z
LAST-MODIFIED:20250813T173553Z
UID:1165-1770598800-1771635599@www.hort-eks.de
SUMMARY:Winterferien
DESCRIPTION:
URL:https://www.hort-eks.de/termine/winterferien/
END:VEVENT
BEGIN:VEVENT
DTSTART;TZID=Europe/Berlin:20260209T000000
DTEND;TZID=Europe/Berlin:20260213T235959
DTSTAMP:20260420T200924
CREATED:20250902T105523Z
LAST-MODIFIED:20260213T085224Z
UID:1246-1770595200-1771027199@www.hort-eks.de
SUMMARY:Winterferienfahrt
DESCRIPTION:… ins KiEZ Grünheide.
URL:https://www.hort-eks.de/termine/winterferienfahrt/
END:VEVENT
BEGIN:VEVENT
DTSTART;TZID=Europe/Berlin:20260130T133000
DTEND;TZID=Europe/Berlin:20260130T163000
DTSTAMP:20260420T200924
CREATED:20260116T080237Z
LAST-MODIFIED:20260116T080237Z
UID:2126-1769779800-1769790600@www.hort-eks.de
SUMMARY:Ausflugstag: Vogelbeobachtungstour durch das Rosental
DESCRIPTION:
URL:https://www.hort-eks.de/termine/ausflugstag-vogelbeobachtung/
END:VEVENT
BEGIN:VEVENT
DTSTART;TZID=Europe/Berlin:20260129T154500
DTEND;TZID=Europe/Berlin:20260129T170000
DTSTAMP:20260420T200924
CREATED:20250910T203641Z
LAST-MODIFIED:20251124T002301Z
UID:1455-1769701500-1769706000@www.hort-eks.de
SUMMARY:Hortelternrat
DESCRIPTION:… im Mehrzweckraum
URL:https://www.hort-eks.de/termine/hortelternrat/
END:VEVENT
BEGIN:VEVENT
DTSTART;TZID=Europe/Berlin:20260123T133000
DTEND;TZID=Europe/Berlin:20260123T163000
DTSTAMP:20260420T200924
CREATED:20251216T145737Z
LAST-MODIFIED:20251216T145737Z
UID:2095-1769175000-1769185800@www.hort-eks.de
SUMMARY:Ausflugstag: Taschentour im Museum der bildenden Künste
DESCRIPTION:
URL:https://www.hort-eks.de/termine/ausflugstag-taschentour-im-museum-der-bildenden-kuenste-2/
END:VEVENT
BEGIN:VEVENT
DTSTART;TZID=Europe/Berlin:20260122T173000
DTEND;TZID=Europe/Berlin:20260122T181500
DTSTAMP:20260420T200924
CREATED:20260119T082702Z
LAST-MODIFIED:20260119T082702Z
UID:2136-1769103000-1769105700@www.hort-eks.de
SUMMARY:Elternabend Winterferienfahrt
DESCRIPTION:… in der Kinderzentrale (ehem. HA-Zimmer).
URL:https://www.hort-eks.de/termine/elternabend-winterferienfahrt/
END:VEVENT
END:VCALENDAR