BEGIN:VCALENDAR
VERSION:2.0
PRODID:-//Hort der Erich Kästner-Schule - ECPv6.15.12.2//NONSGML v1.0//EN
CALSCALE:GREGORIAN
METHOD:PUBLISH
X-ORIGINAL-URL:https://www.hort-eks.de
X-WR-CALDESC:Veranstaltungen für Hort der Erich Kästner-Schule
REFRESH-INTERVAL;VALUE=DURATION:PT1H
X-Robots-Tag:noindex
X-PUBLISHED-TTL:PT1H
BEGIN:VTIMEZONE
TZID:Europe/Berlin
BEGIN:DAYLIGHT
TZOFFSETFROM:+0100
TZOFFSETTO:+0200
TZNAME:CEST
DTSTART:20250330T010000
END:DAYLIGHT
BEGIN:STANDARD
TZOFFSETFROM:+0200
TZOFFSETTO:+0100
TZNAME:CET
DTSTART:20251026T010000
END:STANDARD
BEGIN:DAYLIGHT
TZOFFSETFROM:+0100
TZOFFSETTO:+0200
TZNAME:CEST
DTSTART:20260329T010000
END:DAYLIGHT
BEGIN:STANDARD
TZOFFSETFROM:+0200
TZOFFSETTO:+0100
TZNAME:CET
DTSTART:20261025T010000
END:STANDARD
BEGIN:DAYLIGHT
TZOFFSETFROM:+0100
TZOFFSETTO:+0200
TZNAME:CEST
DTSTART:20270328T010000
END:DAYLIGHT
BEGIN:STANDARD
TZOFFSETFROM:+0200
TZOFFSETTO:+0100
TZNAME:CET
DTSTART:20271031T010000
END:STANDARD
END:VTIMEZONE
BEGIN:VEVENT
DTSTART;TZID=Europe/Berlin:20260306T133000
DTEND;TZID=Europe/Berlin:20260306T163000
DTSTAMP:20260420T214413
CREATED:20260203T101225Z
LAST-MODIFIED:20260203T101225Z
UID:2161-1772803800-1772814600@www.hort-eks.de
SUMMARY:Ausflugstag: Waldtag (nur Klasse 2)
DESCRIPTION:
URL:https://www.hort-eks.de/termine/ausflugstag-waldtag-nur-klasse-2/
END:VEVENT
BEGIN:VEVENT
DTSTART;TZID=Europe/Berlin:20260313T133000
DTEND;TZID=Europe/Berlin:20260313T163000
DTSTAMP:20260420T214413
CREATED:20251216T145616Z
LAST-MODIFIED:20260311T113315Z
UID:2091-1773408600-1773419400@www.hort-eks.de
SUMMARY:Fällt aus! Ausflugstag: Führung durch das Bundesverwaltungsgericht
DESCRIPTION:
URL:https://www.hort-eks.de/termine/ausflugstag-fuehrung-durch-das-bundesverwaltungsgericht/
END:VEVENT
BEGIN:VEVENT
DTSTART;TZID=Europe/Berlin:20260320T133000
DTEND;TZID=Europe/Berlin:20260320T163000
DTSTAMP:20260420T214413
CREATED:20260216T113703Z
LAST-MODIFIED:20260216T113703Z
UID:2188-1774013400-1774024200@www.hort-eks.de
SUMMARY:Ausflugstag: Naturkundemuseum
DESCRIPTION:
URL:https://www.hort-eks.de/termine/ausflugstag-naturkundemuseum/
END:VEVENT
BEGIN:VEVENT
DTSTART;TZID=Europe/Berlin:20260326T133000
DTEND;TZID=Europe/Berlin:20260326T170000
DTSTAMP:20260420T214413
CREATED:20260227T100739Z
LAST-MODIFIED:20260227T100739Z
UID:2211-1774531800-1774544400@www.hort-eks.de
SUMMARY:Ausflugstag: Workshop + Theaterführung im Theatrium
DESCRIPTION:
URL:https://www.hort-eks.de/termine/ausflugstag-workshop-theaterfuehrung-im-theatrium/
END:VEVENT
BEGIN:VEVENT
DTSTART;TZID=Europe/Berlin:20260330T133000
DTEND;TZID=Europe/Berlin:20260330T163000
DTSTAMP:20260420T214413
CREATED:20260324T122057Z
LAST-MODIFIED:20260324T122057Z
UID:2413-1774877400-1774888200@www.hort-eks.de
SUMMARY:Osterbasteln
DESCRIPTION:…in der TARGO-Bank. Nur für angemeldete Kinder.
URL:https://www.hort-eks.de/termine/osterbasteln/
END:VEVENT
END:VCALENDAR