BEGIN:VCALENDAR
VERSION:2.0
PRODID:-//Hort der Erich Kästner-Schule - ECPv6.15.12.2//NONSGML v1.0//EN
CALSCALE:GREGORIAN
METHOD:PUBLISH
X-WR-CALNAME:Hort der Erich Kästner-Schule
X-ORIGINAL-URL:https://www.hort-eks.de
X-WR-CALDESC:Veranstaltungen für Hort der Erich Kästner-Schule
REFRESH-INTERVAL;VALUE=DURATION:PT1H
X-Robots-Tag:noindex
X-PUBLISHED-TTL:PT1H
BEGIN:VTIMEZONE
TZID:Europe/Berlin
BEGIN:DAYLIGHT
TZOFFSETFROM:+0100
TZOFFSETTO:+0200
TZNAME:CEST
DTSTART:20250330T010000
END:DAYLIGHT
BEGIN:STANDARD
TZOFFSETFROM:+0200
TZOFFSETTO:+0100
TZNAME:CET
DTSTART:20251026T010000
END:STANDARD
BEGIN:DAYLIGHT
TZOFFSETFROM:+0100
TZOFFSETTO:+0200
TZNAME:CEST
DTSTART:20260329T010000
END:DAYLIGHT
BEGIN:STANDARD
TZOFFSETFROM:+0200
TZOFFSETTO:+0100
TZNAME:CET
DTSTART:20261025T010000
END:STANDARD
BEGIN:DAYLIGHT
TZOFFSETFROM:+0100
TZOFFSETTO:+0200
TZNAME:CEST
DTSTART:20270328T010000
END:DAYLIGHT
BEGIN:STANDARD
TZOFFSETFROM:+0200
TZOFFSETTO:+0100
TZNAME:CET
DTSTART:20271031T010000
END:STANDARD
END:VTIMEZONE
BEGIN:VEVENT
DTSTART;TZID=Europe/Berlin:20260413T060000
DTEND;TZID=Europe/Berlin:20260426T233000
DTSTAMP:20260420T200954
CREATED:20260324T122222Z
LAST-MODIFIED:20260324T122222Z
UID:2415-1776060000-1777246200@www.hort-eks.de
SUMMARY:Anmeldung Sommerferienfahrt
DESCRIPTION:Ferienfahrt
URL:https://www.hort-eks.de/termine/anmeldung-sommerferienfahrt/
END:VEVENT
BEGIN:VEVENT
DTSTART;TZID=Europe/Berlin:20260423T143000
DTEND;TZID=Europe/Berlin:20260423T163000
DTSTAMP:20260420T200954
CREATED:20260203T080902Z
LAST-MODIFIED:20260203T080902Z
UID:2156-1776954600-1776961800@www.hort-eks.de
SUMMARY:ElternCafé & Flohmarkt
DESCRIPTION:Wir laden wieder zum ElternCafé und Flohmmarkt ein. Wir sammeln spenden für den Förderverein. \nDie spenden für den Flohmarkt können ab einer Woche vor dem ElternCafé im Hort abgegeben werden. Weitere Infos folgen.
URL:https://www.hort-eks.de/termine/elterncafe-flohmarkt/
END:VEVENT
BEGIN:VEVENT
DTSTART;TZID=Europe/Berlin:20260424T133000
DTEND;TZID=Europe/Berlin:20260424T163000
DTSTAMP:20260420T200954
CREATED:20260318T121816Z
LAST-MODIFIED:20260409T084923Z
UID:2407-1777037400-1777048200@www.hort-eks.de
SUMMARY:Ausflugstag: Ausflug zum Wertstoffhof
DESCRIPTION:
URL:https://www.hort-eks.de/termine/ausflugstag-fruehjahrsputz-im-park/
END:VEVENT
END:VCALENDAR